Workbook
Name CHK_TOL: InputsCon!$F$189
Name SMU: InputsCon!$F$197
Name USDMN: InputsCon!$F$199

Sheet ToDo
B2: Sheet | C2: Link | D2: Link | E2: To Do
A4: =MAX(A$2:A3) + 1 -> 1 | C4: =Metalkol_Model1!B$82 -> Cu realized price options | E4: Not sure why realised prices are not in there alongside LME actual, LME assumed and Somidez
A6: =MAX(A$2:A5) + 1 -> 2 | C6: =Metalkol_Model1!E$137 -> Freight charge per tonne of cobalt contained | E6: Waiting for a view from Ron on whether these charges are so high
A8: =MAX(A$2:A7) + 1 -> 3 | C8: =Metalkol_Model1!E$170 -> Last year of Cu production | E8: What assumption of end of life for Metalkol?
A10: =MAX(A$2:A9) + 1 -> 4 | C10: =Metalkol_Model1!C$196 -> Deductions from revenues | E10: Come back to consider in Metalkol if figure should be applied
A12: =MAX(A$2:A11) + 1 -> 5 | E12: Missing Export taxes as 1% on turnover
A15: =MAX(A$2:A14) + 1 -> 6
B18: Sheet | C18: Link | D18: Link | E18: To Do
A20: AW comments 22 July 2025
A22: =MAX(A18:A21) + 1 -> 1 | B22: =Dashboard!C42 -> Government share: excluding payroll & indirect taxes | C22: =Dashboard!D42 -> 0.35490126 | E22: revised AETR calc without indirect
A24: =MAX(A20:A23) + 1 -> 2 | B24: =Metalkol_Model1!E709 -> Loan repayment: interest (first) | E24: This was interest only, now corrected to be ddown & repayment. Same net = interest
A26: =MAX(A22:A25) + 1 -> 3 | B26: =Metalkol_Model1!E$804 -> Gecamines share of net cashflows after tax | E26: this was pointing to the wrong cell.
E27: Gecamines cflow is simply share * positive cashflows. No debt repayment?
A29: =MAX(A25:A28) + 1 -> 4 | B29: =SummaryC_Flow!E$64 -> Gecamines share of net cashflows after tax | E29: and same here
A31: =MAX(A27:A30) + 1 -> 5 | B31: =Track!A1 -> Track | C31: =Track!F3 -> 0 | E31: JW to address track changes now debt issues corrected
A33: =MAX(A29:A32) + 1 -> 6 | B33: =Charts!E97 -> Capital Costs inc. Sens. | E33: fixed chart
A35: =MAX(A31:A34) + 1 -> 7 | B35: =InputsCon!E$91 -> Cu royalty private GCM / AHIL / Ventora | E35: Does this apply to Metalkol?
A37: =MAX(A33:A36) + 1 -> 8 | B37: =Charts!#REF! -> #REF! | E37: deleted revenues categories versus Kamoto. If not used delete full;y, or leave as zero.
B38: =Charts!#REF! -> #REF!
A40: =MAX(A36:A39) + 1 -> 9 | B40: =Metalkol_Model1!E$12 -> Copper produced: 2022FS + actuals | E40: this takes FS over actual. Wrong way round?
E41: likewise for Cobalt. Means not using actual?
A43: =MAX(A39:A42) + 1 -> 10 | B43: ='T&E'!E$8 -> Model first year | E43: Why model first year changed? Now hard to add up across projects.
E44: Should have kept consistent timeline - that's why I set it at 2006
E45: RISK!!
A47: =MAX(A43:A46) + 1 -> 11 | B47: =Metalkol_Model1!E390 -> Alternative Operating Cost Profile | E47: Why using alternative rather than FS? Also results in no opex in first 2 years.
A49: =MAX(A45:A48) + 1 -> 12 | B49: =Metalkol_Model1!E$406 -> Forecast period annualised capex | E49: unused row
A51: =MAX(A47:A50) + 1 -> 13 | B51: =Kamoto_2019TR!A1 -> Kamoto_2019TR | E51: Delete these
B52: =Kamoto_2011TR!A1 -> Kamoto_2011TR | E52: Delete these
B53: =Inp_2019TR!A1 -> Inp_2019TR | E53: Delete these

Sheet Track
A1: =RIGHT(CELL("filename", $A$3), LEN(CELL("filename", $A$3)) - SEARCH("]", CELL("filename", $A$3))) -> Track
F2: =Track!$F$85 -> 0 | G2: Error chks
F3: =SUM(I9:I83) -> 0 | G3: Track chgs
E4: 24July.1 | F4: <= Compare live results to
I5: =MATCH(E4, L5:AH5, 0) -> 2 | J5: Difference | M5: 24July.1 | N5: 21July.1 | O5: 11July.1 | P5: 10July.2 | Q5: 10July.1 | R5: 9July.1 | S5: 23June.3 | T5: 23June.2 | U5: 23June.1 | V5: 20June.2 | W5: 20June.1 | X5: 19June.1 | Y5: 17June.4 | Z5: 17June.3 | AA5: 17June.2 | AB5: 17June.1 | AC5: 16June.4 | AD5: 16June.3 | AE5: 16June.2 | AF5: 16June.1 | AG5: Baseline
A6: DASHBOARD PARAMETERS AND RESULTS
B8: Dashboard parameters
E9: =InputsCon!E$38 -> Copper forecast price | F9: =InputsCon!F$38 -> IMF_WEO | G9: =InputsCon!G$38 -> option selected | I9: =IF(ABS(J9) > CHK_TOL, 1, 0) -> 0 | J9: =IF(F9=INDEX(L9:AG9, $I$5), 0, 1) -> 0 | M9: IMF_WEO | N9: IMF_WEO | O9: IMF_WEO | P9: IMF_WEO | Q9: IMF_WEO | R9: IMF_WEO | S9: IMF_WEO | T9: IMF_WEO | U9: IMF_WEO | V9: IMF_WEO | W9: IMF_WEO | X9: IMF_WEO | Y9: IMF_WEO | Z9: IMF_WEO | AA9: IMF_WEO | AB9: IMF_WEO | AC9: IMF_WEO | AD9: IMF_WEO | AE9: IMF_WEO | AF9: IMF_WEO | AG9: IMF_WEO | AJ9: Purpose of this sheet is to save a set of baseline results so that the model can be confirmed to be / brought back to baseline, or changes in results over time can be documented. Process for creating a new saved case:
E10: =InputsCon!E$39 -> Cobalt forecast price | F10: =InputsCon!F$39 -> IMF_WEO | G10: =InputsCon!G$39 -> option selected | I10: =IF(ABS(J10) > CHK_TOL, 1, 0) -> 0 | J10: =IF(F10=INDEX(L10:AG10, $I$5), 0, 1) -> 0 | M10: IMF_WEO | N10: IMF_WEO | O10: IMF_WEO | P10: IMF_WEO | Q10: IMF_WEO | R10: IMF_WEO | S10: IMF_WEO | T10: IMF_WEO | U10: IMF_WEO | V10: IMF_WEO | W10: IMF_WEO | X10: IMF_WEO | Y10: IMF_WEO | Z10: IMF_WEO | AA10: IMF_WEO | AB10: IMF_WEO | AC10: IMF_WEO | AD10: IMF_WEO | AE10: IMF_WEO | AF10: IMF_WEO | AG10: IMF_WEO
E11: =InputsCon!E$40 -> Cu realized price method | F11: =InputsCon!F$40 -> SOM_Contract | G11: =InputsCon!G$40 -> selected | I11: =IF(ABS(J11) > CHK_TOL, 1, 0) -> 0 | J11: =IF(F11=INDEX(L11:AG11, $I$5), 0, 1) -> 0 | M11: SOM_Contract | N11: SOM_Contract | O11: SOM_Contract | P11: SOM_Contract | Q11: SOM_Contract | R11: SOM_Contract | S11: SOM_Contract | T11: SOM_Contract | U11: SOM_Contract | V11: SOM_Contract | W11: SOM_Contract | X11: SOM_Contract | Y11: SOM_Contract | Z11: SOM_Contract | AA11: SOM_Contract | AB11: SOM_Contract | AC11: SOM_Contract | AD11: SOM_Contract | AE11: SOM_Contract | AF11: SOM_Contract | AG11: SOM_Contract
E12: =InputsCon!E$41 -> Copper: Realised Price vs LME for "LMEAssumed" | F12: =InputsCon!F$41 -> 0.95 | G12: =InputsCon!G$41 -> % | I12: =IF(ABS(J12) > CHK_TOL, 1, 0) -> 0 | J12: =IF(OR(ISTEXT(F12), ISTEXT(INDEX(L12:AG12, $I$5))), 0, F12 - INDEX(L12:AG12, $I$5)) -> 0 | M12: 0.95 | N12: 0.95 | O12: 0.95 | P12: 0.95 | Q12: 0.95 | R12: 0.95 | S12: 0.95 | T12: 0.95 | U12: 0.95 | V12: 0.95 | W12: 0.95 | X12: 0.95 | Y12: 0.95 | Z12: 0.95 | AA12: 0.95 | AB12: 0.95 | AC12: 0.95 | AD12: 0.95 | AE12: 0.95 | AF12: 0.95 | AG12: 0.95
E13: =InputsCon!E$42 -> Co realized price method | F13: =InputsCon!F$42 -> SOM_Contract | G13: =InputsCon!G$42 -> selected | I13: =IF(ABS(J13) > CHK_TOL, 1, 0) -> 0 | J13: =IF(F13=INDEX(L13:AG13, $I$5), 0, 1) -> 0 | M13: SOM_Contract | N13: SOM_Contract | O13: SOM_Contract | P13: SOM_Contract | Q13: SOM_Contract | R13: SOM_Contract | S13: SOM_Contract | T13: SOM_Contract | U13: SOM_Contract | V13: SOM_Contract | W13: SOM_Contract | X13: SOM_Contract | Y13: SOM_Contract | Z13: SOM_Contract | AA13: SOM_Contract | AB13: SOM_Contract | AC13: SOM_Contract | AD13: SOM_Contract | AE13: SOM_Contract | AF13: SOM_Contract | AG13: SOM_Contract | AJ13: 1. Select column M
E14: =InputsCon!E$43 -> Cobalt: Realised Price vs LME for "LMEAssumed" | F14: =InputsCon!F$43 -> 0.7 | G14: =InputsCon!G$43 -> % | I14: =IF(ABS(J14) > CHK_TOL, 1, 0) -> 0 | J14: =IF(OR(ISTEXT(F14), ISTEXT(INDEX(L14:AG14, $I$5))), 0, F14 - INDEX(L14:AG14, $I$5)) -> 0 | M14: 0.7 | N14: 0.7 | O14: 0.7 | P14: 0.7 | Q14: 0.7 | R14: 0.7 | S14: 0.9 | T14: 0.9 | U14: 0.9 | V14: 0.9 | W14: 0.9 | X14: 0.9 | Y14: 0.9 | Z14: 0.9 | AA14: 0.9 | AB14: 0.9 | AC14: 0.9 | AD14: 0.9 | AE14: 0.9 | AF14: 0.9 | AG14: 0.9 | AJ14: 2. Copy column M and immediately Right click insert copied cells. This duplicates the existing saved results set
E15: =InputsCon!E$44 -> Apply freight, insurance & sales costs 2019TR | F15: =InputsCon!F$44 -> no | G15: =InputsCon!G$44 -> selected | I15: =IF(ABS(J15) > CHK_TOL, 1, 0) -> 0 | J15: =IF(F15=INDEX(L15:AG15, $I$5), 0, 1) -> 0 | M15: no | N15: no | O15: no | P15: no | Q15: no | R15: no | S15: no | T15: no | U15: no | V15: no | W15: no | X15: no | Y15: no | Z15: no | AA15: no | AB15: no | AC15: no | AD15: no | AE15: no | AF15: no | AG15: no | AJ15: 3. Now copy the live results from column F
E16: =InputsCon!E$14 -> Discount rate | F16: =InputsCon!F$14 -> 0.1 | G16: =InputsCon!G$14 -> %nominal | I16: =IF(ABS(J16) > CHK_TOL, 1, 0) -> 0 | J16: =IF(OR(ISTEXT(F16), ISTEXT(INDEX(L16:AG16, $I$5))), 0, F16 - INDEX(L16:AG16, $I$5)) -> 0 | M16: 0.1 | N16: 0.1 | O16: 0.1 | P16: 0.1 | Q16: 0.1 | R16: 0.1 | S16: 0.1 | T16: 0.1 | U16: 0.1 | V16: 0.1 | W16: 0.1 | X16: 0.1 | Y16: 0.1 | Z16: 0.1 | AA16: 0.1 | AB16: 0.1 | AC16: 0.1 | AD16: 0.1 | AE16: 0.1 | AF16: 0.1 | AG16: 0.1 | AJ16: 4. Paste as values over the newly created duplicate saved results
E17: =InputsCon!E$22 -> Forecast / point forward year | F17: =InputsCon!F$22 -> 2025 | G17: =InputsCon!G$22 -> year | I17: =IF(ABS(J17) > CHK_TOL, 1, 0) -> 0 | J17: =IF(OR(ISTEXT(F17), ISTEXT(INDEX(L17:AG17, $I$5))), 0, F17 - INDEX(L17:AG17, $I$5)) -> 0 | M17: 2025 | N17: 2025 | O17: 2025 | P17: 2025 | Q17: 2025 | R17: 2025 | S17: 2025 | T17: 2025 | U17: 2025 | V17: 2025 | W17: 2025 | X17: 2011 | Y17: 2011 | Z17: 2011 | AA17: 2011 | AB17: 2011 | AC17: 2011 | AD17: 2011 | AE17: 2011 | AF17: 2011 | AG17: 2011 | AJ17: 5. Rename the new saved results case in row 4
E18: =InputsCon!E$26 -> Copper production sensitivity (forecast period) | F18: =InputsCon!F$26 -> 1 | G18: =InputsCon!G$26 -> % | I18: =IF(ABS(J18) > CHK_TOL, 1, 0) -> 0 | J18: =IF(OR(ISTEXT(F18), ISTEXT(INDEX(L18:AG18, $I$5))), 0, F18 - INDEX(L18:AG18, $I$5)) -> 0 | M18: 1 | N18: 1 | O18: 1 | P18: 1 | Q18: 1 | R18: 1 | S18: 1 | T18: 1 | U18: 1 | V18: 1 | W18: 1 | X18: 1 | Y18: 1 | Z18: 1 | AA18: 1 | AB18: 1 | AC18: 1 | AD18: 1 | AE18: 1 | AF18: 1 | AG18: 1 | AJ18: 6. Track sheet will show differences between live results and saved case selected at E2
E19: =InputsCon!E$27 -> Cobalt production sensitivity (forecast period) | F19: =InputsCon!F$27 -> 1 | G19: =InputsCon!G$27 -> % | I19: =IF(ABS(J19) > CHK_TOL, 1, 0) -> 0 | J19: =IF(OR(ISTEXT(F19), ISTEXT(INDEX(L19:AG19, $I$5))), 0, F19 - INDEX(L19:AG19, $I$5)) -> 0 | M19: 1 | N19: 1 | O19: 1 | P19: 1 | Q19: 1 | R19: 1 | S19: 1 | T19: 1 | U19: 1 | V19: 1 | W19: 1 | X19: 1 | Y19: 1 | Z19: 1 | AA19: 1 | AB19: 1 | AC19: 1 | AD19: 1 | AE19: 1 | AF19: 1 | AG19: 1 | AJ19: 7. Additional results and/or parameters can be added to results set
E20: =InputsCon!E$28 -> Operating cost Sensitivity (forecast period) | F20: =InputsCon!F$28 -> 1 | G20: =InputsCon!G$28 -> % | I20: =IF(ABS(J20) > CHK_TOL, 1, 0) -> 0 | J20: =IF(OR(ISTEXT(F20), ISTEXT(INDEX(L20:AG20, $I$5))), 0, F20 - INDEX(L20:AG20, $I$5)) -> 0 | M20: 1 | N20: 1 | O20: 0.8 | P20: 1 | Q20: 1 | R20: 1 | S20: 1 | T20: 1 | U20: 1 | V20: 1 | W20: 1 | X20: 1 | Y20: 1 | Z20: 1 | AA20: 1 | AB20: 1 | AC20: 1 | AD20: 1 | AE20: 1 | AF20: 1 | AG20: 1
E21: =InputsCon!E$29 -> Capital cost sensitivity (forecast period) | F21: =InputsCon!F$29 -> 1 | G21: =InputsCon!G$29 -> % | I21: =IF(ABS(J21) > CHK_TOL, 1, 0) -> 0 | J21: =IF(OR(ISTEXT(F21), ISTEXT(INDEX(L21:AG21, $I$5))), 0, F21 - INDEX(L21:AG21, $I$5)) -> 0 | M21: 1 | N21: 1 | O21: 1 | P21: 1 | Q21: 1 | R21: 1 | S21: 1 | T21: 1 | U21: 1 | V21: 1 | W21: 1 | X21: 1 | Y21: 1 | Z21: 1 | AA21: 1 | AB21: 1 | AC21: 1 | AD21: 1 | AE21: 1 | AF21: 1 | AG21: 1
E22: =InputsTS!E$159 -> Cobalt Payable Rate applied in model | F22: =InputsTS!F$159 -> 0.7 | G22: =InputsTS!G$159 -> % | I22: =IF(ABS(J22) > CHK_TOL, 1, 0) -> 0 | J22: =IF(OR(ISTEXT(F22), ISTEXT(INDEX(L22:AG22, $I$5))), 0, F22 - INDEX(L22:AG22, $I$5)) -> 0 | M22: 0.7 | N22: 0.7 | O22: 0.7 | P22: 0.7 | Q22: 0.7 | R22: 0.7 | S22: 0.7 | T22: 0.7 | U22: 0.7 | V22: 0.7 | W22: 0.7 | X22: 0.7 | Y22: 0.7 | Z22: 0.7 | AA22: 0.7 | AB22: 0.7 | AC22: 0.7 | AD22: 0.7 | AE22: 0.7 | AF22: 0.7
E23: =InputsTS!E$136 -> Som contract: placeholder assumption of third party sales: Cu | F23: =InputsTS!F$136 -> 0.9 | G23: =InputsTS!G$136 -> % | I23: =IF(ABS(J23) > CHK_TOL, 1, 0) -> 0 | J23: =IF(OR(ISTEXT(F23), ISTEXT(INDEX(L23:AG23, $I$5))), 0, F23 - INDEX(L23:AG23, $I$5)) -> 0 | M23: 0.9 | N23: 0.9 | O23: 0.9 | P23: 0.9 | Q23: 0.9 | R23: 0.9 | S23: 0.9 | T23: 0.9 | U23: 0.9 | V23: 0.9 | W23: 0.5 | X23: 0.5 | Y23: 0.5 | Z23: 0.5 | AA23: 0.5 | AB23: 0.5 | AC23: 0.5 | AD23: 0.5 | AE23: 0.5 | AF23: 0.5
E24: =InputsCon!E$104 -> Opening balance of CIT losses 2011 | F24: =InputsCon!F$104 -> 0 | G24: =InputsCon!G$104 -> $ mn | I24: =IF(ABS(J24) > CHK_TOL, 1, 0) -> 0 | J24: =IF(OR(ISTEXT(F24), ISTEXT(INDEX(L24:AG24, $I$5))), 0, F24 - INDEX(L24:AG24, $I$5)) -> 0 | M24: 0 | N24: 0 | O24: 0 | P24: 0 | Q24: 0 | R24: 0 | S24: 0 | T24: 0 | U24: 0 | V24: 0 | W24: 0 | X24: 0 | Y24: 0 | Z24: 0 | AA24: 0 | AB24: 0 | AC24: 0 | AD24: 3200 | AE24: 3200 | AF24: 3200
B27: ="Project cashflows from: " & F17 -> Project cashflows from: 2025
E28: =Dashboard!C$20 -> Copper production 2022Fs + actuals | F28: =Dashboard!D$20 -> 836.909 | G28: =Dashboard!E$20 -> KT Cu | I28: =IF(ABS(J28) > CHK_TOL, 1, 0) -> 0 | J28: =IF(OR(ISTEXT(F28), ISTEXT(INDEX(L28:AG28, $I$5))), 0, F28 - INDEX(L28:AG28, $I$5)) -> 0 | M28: 836.909 | N28: 836.909 | O28: 836.909 | P28: 836.909 | Q28: 836.909 | R28: 836.909 | S28: 4017 | T28: 4017 | U28: 4017 | V28: 4017 | W28: 4017 | X28: 6011.9268 | Y28: 6011.9268 | Z28: 6011.9268 | AA28: 6011.9268 | AB28: 6011.9268 | AC28: 6011.9268 | AD28: 6011.9268 | AE28: 6011.9268 | AF28: 6011.9268 | AG28: 6011.9268
E29: =Dashboard!C$21 -> Cobalt production 2022FS + actuals | F29: =Dashboard!D$21 -> 161.178 | G29: =Dashboard!E$21 -> KT | I29: =IF(ABS(J29) > CHK_TOL, 1, 0) -> 0 | J29: =IF(OR(ISTEXT(F29), ISTEXT(INDEX(L29:AG29, $I$5))), 0, F29 - INDEX(L29:AG29, $I$5)) -> 0 | M29: 161.178 | N29: 161.178 | O29: 161.178 | P29: 161.178 | Q29: 161.178 | R29: 161.178 | S29: 370 | T29: 370 | U29: 370 | V29: 370 | W29: 370 | X29: 516.28684 | Y29: 516.28684 | Z29: 516.28684 | AA29: 516.28684 | AB29: 516.28684 | AC29: 516.28684 | AD29: 516.28684 | AE29: 516.28684 | AF29: 516.28684 | AG29: 565.64382
E30: =Dashboard!C$22 -> Ratio Co to Cu production | F30: =Dashboard!D$22 -> 0.19258725 | G30: =Dashboard!E$22 -> ratio | I30: =IF(ABS(J30) > CHK_TOL, 1, 0) -> 0 | J30: =IF(OR(ISTEXT(F30), ISTEXT(INDEX(L30:AG30, $I$5))), 0, F30 - INDEX(L30:AG30, $I$5)) -> 0 | M30: 0.19258725 | N30: 0.19258725 | O30: 0.19258725 | P30: 0.19258725 | Q30: 0.19258725 | R30: 0.19258725 | S30: 0.092108539 | T30: 0.092108539 | U30: 0.092108539 | V30: 0.092108539 | W30: 0.092108539 | X30: 0.0858771 | Y30: 0.0858771 | Z30: 0.0858771 | AA30: 0.0858771 | AB30: 0.0858771 | AC30: 0.0858771 | AD30: 0.0858771 | AE30: 0.0858771 | AF30: 0.0858771 | AG30: 0.094086943
E31: =Dashboard!C$23 -> Copper net revenue | F31: =Dashboard!D$23 -> 7048.7685 | G31: =Dashboard!E$23 -> $ mn | I31: =IF(ABS(J31) > CHK_TOL, 1, 0) -> 0 | J31: =IF(OR(ISTEXT(F31), ISTEXT(INDEX(L31:AG31, $I$5))), 0, F31 - INDEX(L31:AG31, $I$5)) -> 0 | M31: 7048.7685 | N31: 7048.7685 | O31: 7048.7685 | P31: 7048.7685 | Q31: 7048.7685 | R31: 7048.7685 | S31: 35990.739 | T31: 35990.739 | U31: 35990.739 | V31: 35990.739 | W31: 36110.849 | X31: 50475.814 | Y31: 43926.319 | Z31: 43926.319 | AA31: 43926.319 | AB31: 43926.319 | AC31: 43926.319 | AD31: 43926.319 | AE31: 43926.319 | AF31: 43926.319 | AG31: 43779.067
E32: =Dashboard!C$24 -> Cobalt net revenue | F32: =Dashboard!D$24 -> 4318.6154 | G32: =Dashboard!E$24 -> $ mn | I32: =IF(ABS(J32) > CHK_TOL, 1, 0) -> 0 | J32: =IF(OR(ISTEXT(F32), ISTEXT(INDEX(L32:AG32, $I$5))), 0, F32 - INDEX(L32:AG32, $I$5)) -> 0 | M32: 4318.6154 | N32: 4318.6154 | O32: 4318.6154 | P32: 4318.6154 | Q32: 4318.6154 | R32: 4318.6154 | S32: 10242.546 | T32: 10242.546 | U32: 10242.546 | V32: 10242.546 | W32: 10242.546 | X32: 14362.262 | Y32: 12779.369 | Z32: 12779.369 | AA32: 12779.369 | AB32: 12779.369 | AC32: 12779.369 | AD32: 12779.369 | AE32: 12779.369 | AF32: 12779.369 | AG32: 20100.229
E33: =Dashboard!C$25 -> Copper & Cobalt net revenue | F33: =Dashboard!D$25 -> 11367.384 | G33: =Dashboard!E$25 -> $ mn | I33: =IF(ABS(J33) > CHK_TOL, 1, 0) -> 0 | J33: =IF(OR(ISTEXT(F33), ISTEXT(INDEX(L33:AG33, $I$5))), 0, F33 - INDEX(L33:AG33, $I$5)) -> 0 | M33: 11367.384 | N33: 11367.384 | O33: 11367.384 | P33: 11367.384 | Q33: 11367.384 | R33: 11367.384 | S33: 46233.285 | T33: 46233.285 | U33: 46233.285 | V33: 46233.285 | W33: 46353.395 | X33: 64838.076 | Y33: 56705.688 | Z33: 56705.688 | AA33: 56705.688 | AB33: 56705.688 | AC33: 56705.688 | AD33: 56705.688 | AE33: 56705.688 | AF33: 56705.688 | AG33: 63879.296
E34: =Dashboard!C$26 -> Alternative Operating Cost Profile | F34: =Dashboard!D$26 -> 6758.5975 | G34: =Dashboard!E$26 -> $ mn | I34: =IF(ABS(J34) > CHK_TOL, 1, 0) -> 0 | J34: =IF(OR(ISTEXT(F34), ISTEXT(INDEX(L34:AG34, $I$5))), 0, F34 - INDEX(L34:AG34, $I$5)) -> 0 | M34: 6758.5975 | N34: 6758.5975 | O34: 7964.9773 | P34: 9656.4076 | Q34: 9656.4076 | R34: 9656.4076 | S34: 28423.771 | T34: 28423.771 | U34: 28423.771 | V34: 28423.771 | W34: 28423.771 | X34: 40196.123 | Y34: 36498.352 | Z34: 36498.352 | AA34: 36498.352 | AB34: 36498.352 | AC34: 36498.352 | AD34: 36498.352 | AE34: 36498.352 | AF34: 36498.352 | AG34: 36498.352
E35: =Dashboard!C$27 -> Capital Costs inc. Sens. | F35: =Dashboard!D$27 -> 174.60669 | G35: =Dashboard!E$27 -> $ mn | I35: =IF(ABS(J35) > CHK_TOL, 1, 0) -> 0 | J35: =IF(OR(ISTEXT(F35), ISTEXT(INDEX(L35:AG35, $I$5))), 0, F35 - INDEX(L35:AG35, $I$5)) -> 0 | M35: 174.60669 | N35: 174.60669 | O35: 174.60669 | P35: 174.60669 | Q35: 174.60669 | R35: 174.60669 | S35: 3652.3581 | T35: 3652.3581 | U35: 3652.3581 | V35: 3652.3581 | W35: 3652.3581 | X35: 7050.0068 | Y35: 6688.6487 | Z35: 6688.6487 | AA35: 6688.6487 | AB35: 6688.6487 | AC35: 6688.6487 | AD35: 6688.6487 | AE35: 6688.6487 | AF35: 6688.6487 | AG35: 6688.6487
E36: =Dashboard!C$28 -> Project costs | F36: =Dashboard!D$28 -> 6933.2042 | G36: =Dashboard!E$28 -> $ mn | I36: =IF(ABS(J36) > CHK_TOL, 1, 0) -> 0 | J36: =IF(OR(ISTEXT(F36), ISTEXT(INDEX(L36:AG36, $I$5))), 0, F36 - INDEX(L36:AG36, $I$5)) -> 0 | M36: 6933.2042 | N36: 6933.2042 | O36: 8139.584 | P36: 9831.0142 | Q36: 9831.0142 | R36: 9831.0142 | S36: 32076.129 | T36: 32076.129 | U36: 32076.129 | V36: 32076.129 | W36: 32076.129 | X36: 47246.129 | Y36: 43187 | Z36: 43187 | AA36: 43187 | AB36: 43187 | AC36: 43187 | AD36: 43187 | AE36: 43187 | AF36: 43187 | AG36: 43187
E37: =Dashboard!C$29 -> Project cashflows before fiscal regime | F37: =Dashboard!D$29 -> 4434.1798 | G37: =Dashboard!E$29 -> $ mn | I37: =IF(ABS(J37) > CHK_TOL, 1, 0) -> 0 | J37: =IF(OR(ISTEXT(F37), ISTEXT(INDEX(L37:AG37, $I$5))), 0, F37 - INDEX(L37:AG37, $I$5)) -> 0 | M37: 4434.1798 | N37: 4434.1798 | O37: 3227.8 | P37: 1536.3697 | Q37: 1536.3697 | R37: 1536.3697 | S37: 14157.156 | T37: 14157.156 | U37: 14157.156 | V37: 14157.156 | W37: 14277.266 | X37: 17591.947 | Y37: 13518.688 | Z37: 13518.688 | AA37: 13518.688 | AB37: 13518.688 | AC37: 13518.688 | AD37: 13518.688 | AE37: 13518.688 | AF37: 13518.688 | AG37: 20692.296
B39: ="Participant results USD mn real from: " & $F$17 -> Participant results USD mn real from: 2025
E40: =Dashboard!C$34 -> Government revenues excl. Gecamines participation | F40: =Dashboard!D$34 -> 1771.428 | G40: $ mn | I40: =IF(ABS(J40) > CHK_TOL, 1, 0) -> 0 | J40: =IF(OR(ISTEXT(F40), ISTEXT(INDEX(L40:AG40, $I$5))), 0, F40 - INDEX(L40:AG40, $I$5)) -> 0 | M40: 1771.428 | N40: 1771.428 | O40: 1387.6547 | P40: 1171.1523 | Q40: 1662.703 | R40: 1662.703 | S40: 11566.056 | T40: 11245.762 | U40: 11242.481 | V40: 11164.579 | W40: 11220.667 | X40: 14998.879 | Y40: 10291.405 | Z40: 10256.475 | AA40: 10399.205 | AB40: 8920.3402 | AC40: 8826.6851 | AD40: 7971.4125 | AE40: 5818.6666 | AF40: 5831.4142 | AG40: 8723.5858
E41: =Dashboard!C$35 -> Gecamines share of net cashflows after tax | F41: =Dashboard!D$35 -> 110.44121 | G41: $ mn | I41: =IF(ABS(J41) > CHK_TOL, 1, 0) -> 0 | J41: =IF(OR(ISTEXT(F41), ISTEXT(INDEX(L41:AG41, $I$5))), 0, F41 - INDEX(L41:AG41, $I$5)) -> 0 | M41: 110.44121 | N41: 100.32837 | O41: 11.574366 | P41: -62.328593 | Q41: 0 | R41: 3.9039167 | S41: 694.33137 | T41: 694.33137 | U41: 727.14278 | V41: 734.97984 | W41: 753.859 | X41: 1294.4024 | Y41: 1416.3311 | Z41: 1427.3023 | AA41: 0 | AB41: 0 | AC41: 0 | AD41: 321.05779 | AE41: 321.05779 | AF41: 325.63467 | AG41: 1730.5752
E42: =Dashboard!C$36 -> Government including Gecamines | F42: =Dashboard!D$36 -> 1881.8692 | G42: $ mn | I42: =IF(ABS(J42) > CHK_TOL, 1, 0) -> 0 | J42: =IF(OR(ISTEXT(F42), ISTEXT(INDEX(L42:AG42, $I$5))), 0, F42 - INDEX(L42:AG42, $I$5)) -> 0 | M42: 1881.8692 | N42: 1871.7563 | O42: 1399.229 | P42: 1108.8237 | Q42: 1662.703 | R42: 1666.6069 | S42: 12260.388 | T42: 11940.093 | U42: 11969.624 | V42: 11899.558 | W42: 11974.526 | X42: 16293.281 | Y42: 11707.736 | Z42: 11683.778 | AA42: 10399.205 | AB42: 8920.3402 | AC42: 8826.6851 | AD42: 8292.4703 | AE42: 6139.7244 | AF42: 6157.0488 | AG42: 10454.161
E43: =Dashboard!C$37 -> Parent company net cashflows | F43: =Dashboard!D$37 -> 2465.8579 | G43: $ mn | I43: =IF(ABS(J43) > CHK_TOL, 1, 0) -> 0 | J43: =IF(OR(ISTEXT(F43), ISTEXT(INDEX(L43:AG43, $I$5))), 0, F43 - INDEX(L43:AG43, $I$5)) -> 0 | M43: 2465.8579 | N43: 1431.0837 | O43: 790.12363 | P43: -612.83747 | Q43: -612.83747 | R43: -612.83747 | S43: 3801.988 | T43: 3801.988 | U43: 3772.4578 | V43: 3842.5231 | W43: 3884.6623 | X43: 4296.074 | Y43: 4660.803 | Z43: 4684.7611 | AA43: 5969.3332 | AB43: 5969.3332 | AC43: 6062.9883 | AD43: 6597.2031 | AE43: 6597.2031 | AF43: 6579.8786 | AG43: 9277.034
E44: =Dashboard!C$38 -> Cu + Co private royalty (treat as distribution of profit) | F44: =Dashboard!D$38 -> 284.1846 | G44: $ mn | I44: =IF(ABS(J44) > CHK_TOL, 1, 0) -> 0 | J44: =IF(OR(ISTEXT(F44), ISTEXT(INDEX(L44:AG44, $I$5))), 0, F44 - INDEX(L44:AG44, $I$5)) -> 0 | M44: 284.1846 | N44: 284.1846 | O44: 284.1846 | P44: 284.1846 | Q44: 284.1846 | R44: 284.1846 | S44: 1155.8321 | T44: 1155.8321 | U44: 1155.8321 | V44: 1155.8321 | W44: 1158.8349 | X44: 1620.9519 | Y44: 1417.6422 | Z44: 1417.6422 | AA44: 1417.6422 | AB44: 1417.6422 | AC44: 1417.6422 | AD44: 1417.6422 | AE44: 1417.6422 | AF44: 1417.6422 | AG44: 1596.9824
...

Sheet Dashboard
A1: =RIGHT( CELL("filename",A1), LEN( CELL("filename",A1)) - SEARCH("]", CELL("filename",A1))) -> Dashboard
G2: =InputsCon!F8 -> Metalkol Copper Mine | M2: =Track!$F$85 -> 0 | N2: Error chks
G3: first draft model | I3: =InputsCon!F9 -> 45809 | M3: =Track!F3 -> 0 | N3: Track chgs
C6: SCENARIO
C7: Scenario | D7: Base | E7: selected
C8: Forecast / point forward year | D8: 2025 | E8: year
C10: Headlines
C12: Government aggregate revenue | D12: =D58 -> 1771.428 | E12: =E58 -> $ mn
C13: Gecamines participation | D13: =D59 -> 110.44121 | E13: =E60 -> $ mn
C14: Government total | D14: =SUM(D12:D13) -> 1881.8692 | E14: =E13 -> $ mn
C15: Govt share excluding indirect taxes | D15: =D42 -> 0.35490126 | E15: %
C17: Investor NPV | D17: =E37 -> 1762.1299 | E17: =E32 -> $mn NPV10
C19: ="Project cashflows from: " & $D$8 -> Project cashflows from: 2025
C20: =Metalkol_Model1!E951 -> Copper production 2022Fs + actuals | D20: =Metalkol_Model1!O951 -> 836.909 | E20: =Metalkol_Model1!G951 -> KT Cu
C21: =Metalkol_Model1!E952 -> Cobalt production 2022FS + actuals | D21: =Metalkol_Model1!O952 -> 161.178 | E21: =Metalkol_Model1!G952 -> KT
C22: =Metalkol_Model1!E953 -> Ratio Co to Cu production | D22: =Metalkol_Model1!O953 -> 0.19258725 | E22: =Metalkol_Model1!G953 -> ratio
C23: =Metalkol_Model1!E963 -> Copper net revenue | D23: =Metalkol_Model1!O963 -> 7048.7685 | E23: =Metalkol_Model1!G963 -> $ mn
C24: =Metalkol_Model1!E964 -> Cobalt net revenue | D24: =Metalkol_Model1!O964 -> 4318.6154 | E24: =Metalkol_Model1!G964 -> $ mn
C25: =Metalkol_Model1!E965 -> Copper & Cobalt net revenue | D25: =Metalkol_Model1!O965 -> 11367.384 | E25: =Metalkol_Model1!G965 -> $ mn
C26: =Metalkol_Model1!E967 -> Alternative Operating Cost Profile | D26: =Metalkol_Model1!O967 -> 6758.5975 | E26: =Metalkol_Model1!G967 -> $ mn
C27: =Metalkol_Model1!E968 -> Capital Costs inc. Sens. | D27: =Metalkol_Model1!O968 -> 174.60669 | E27: =Metalkol_Model1!G968 -> $ mn
C28: =Metalkol_Model1!E969 -> Project costs | D28: =Metalkol_Model1!O969 -> 6933.2042 | E28: =Metalkol_Model1!G969 -> $ mn
C29: =Metalkol_Model1!E971 -> Project cashflows before fiscal regime | D29: =Metalkol_Model1!O971 -> 4434.1798 | E29: =Metalkol_Model1!G971 -> $ mn
C30: =C29 & " check" -> Project cashflows before fiscal regime check | D30: =IF( ABS(D29 - D33) > CHK_TOL, 1, 0) -> 0 | E30: check
C32: ="Participant results from: " & $D$8 & " USD mn" -> Participant results from: 2025 USD mn | D32: undiscounted | E32: ="$mn NPV" & InputsCon!F14 * 100 -> $mn NPV10
C33: =Metalkol_Model1!E994 -> Project cashflows before tax | D33: =Metalkol_Model1!O994 -> 4434.1798 | E33: =Metalkol_Model1!O1008 -> 3106.381
C34: =Metalkol_Model1!E995 -> Government revenues excl. Gecamines participation | D34: =Metalkol_Model1!O995 -> 1771.428 | E34: =Metalkol_Model1!O1009 -> 1212.9782
C35: =Metalkol_Model1!E996 -> Gecamines share of net cashflows after tax | D35: =Metalkol_Model1!O996 -> 110.44121 | E35: =Metalkol_Model1!O1010 -> 70.498159
C36: =Metalkol_Model1!E997 -> Government including Gecamines | D36: =Metalkol_Model1!O997 -> 1881.8692 | E36: =Metalkol_Model1!O1011 -> 1283.4764
C37: =Metalkol_Model1!E998 -> Parent company net cashflows | D37: =Metalkol_Model1!O998 -> 2465.8579 | E37: =Metalkol_Model1!O1012 -> 1762.1299
C38: =Metalkol_Model1!E999 -> Cu + Co private royalty (treat as distribution of profit) | D38: =Metalkol_Model1!O999 -> 284.1846 | E38: =Metalkol_Model1!O1013 -> 197.68963
C39: =Metalkol_Model1!E1000 -> [Net debt cashflows (3rd party lender)] | D39: =Metalkol_Model1!O1000 -> 0 | E39: =Metalkol_Model1!O1014 -> 0
C40: =Metalkol_Model1!E1001 -> Additional govt revenues incl. in project costs | D40: =Metalkol_Model1!O1001 -> 197.73197 | E40: =Metalkol_Model1!O1015 -> 136.91493
C41: =Metalkol_Model1!E1002 -> Check: project cashflows by time period | D41: =Metalkol_Model1!O1002 -> 0 | E41: =Metalkol_Model1!O1016 -> 0 | F41: check
C42: =Metalkol_Model1!E1004 -> Government share: excluding payroll & indirect taxes | D42: =(D58 - D52 - D53 - D56) / D33 -> 0.35490126
C43: =Metalkol_Model1!E1005 -> Government share: excluding Gecamines | D43: =D34 / D33 -> 0.39949395 | E43: =Metalkol_Model1!O1018 -> 0.39047955
C44: =Metalkol_Model1!E1006 -> Government share: including Gecamines | D44: =Metalkol_Model1!O1006 -> 0.42440074 | E44: =Metalkol_Model1!O1019 -> 0.41317417
C46: ="Government results from: " & $D$8 & " USD mn" -> Government results from: 2025 USD mn
C47: =Metalkol_Model1!E975 -> 0 | D47: =Metalkol_Model1!F975 -> top
C48: =Metalkol_Model1!E976 -> Cu + Co government royalty | D48: =Metalkol_Model1!O976 -> 678.56844 | E48: =Metalkol_Model1!G976 -> $ mn
...

Sheet SummaryC_Flow
A1: =RIGHT(CELL("filename", $A$3), LEN(CELL("filename", $A$3)) - SEARCH("]", CELL("filename", $A$3))) -> SummaryC_Flow
F2: =Track!$F$85 -> 0 | G2: Error chks | L2: ='T&E'!L$9 -> 2014 | M2: ='T&E'!M$9 -> 2015 | N2: ='T&E'!N$9 -> 2016 | O2: ='T&E'!O$9 -> 2017 | P2: ='T&E'!P$9 -> 2018 | Q2: ='T&E'!Q$9 -> 2019 | R2: ='T&E'!R$9 -> 2020 | S2: ='T&E'!S$9 -> 2021 | ... AV2: ='T&E'!AV$9 -> 2050
F3: =Track!F$3 -> 0 | G3: Track chgs | L3: Actual | M3: Actual | N3: Actual | O3: Actual | P3: Actual | Q3: Actual | R3: Actual | S3: Actual | T3: Actual | U3: Actual | V3: Actual | W3: Actual | X3: Actual | Y3: Actual | Z3: Actual | AA3: Actual | AB3: Actual | AC3: Actual | AD3: Actual | AE3: Forecast | AF3: Forecast | AG3: Forecast | AH3: Forecast | AI3: Forecast | AJ3: Forecast | AK3: Forecast | AL3: Forecast | AM3: Forecast | AN3: Forecast | AO3: Forecast | AP3: Forecast | AQ3: Forecast | AR3: Forecast | AS3: Forecast | AT3: Forecast | AU3: Forecast | AV3: Forecast
F4: Constant | G4: Units | H4: Sparkline | I4: Source / Comments | L4: ='T&E'!L$11 -> 1 | M4: ='T&E'!M$11 -> 2 | N4: ='T&E'!N$11 -> 3 | O4: ='T&E'!O$11 -> 4 | P4: ='T&E'!P$11 -> 5 | Q4: ='T&E'!Q$11 -> 6 | R4: ='T&E'!R$11 -> 7 | S4: ='T&E'!S$11 -> 8 | ... AV4: ='T&E'!AV$11 -> 37
A6: SUMMARY DATA
B8: Production
E9: =Metalkol_Model1!E819 -> Copper production 2022Fs + actuals | F9: =Metalkol_Model1!F819 -> 0 | G9: =Metalkol_Model1!G819 -> KT Cu | H9: =Metalkol_Model1!H819 -> 0 | I9: =Metalkol_Model1!I819 -> 0 | J9: =Metalkol_Model1!J819 -> 1421.0743 | K9: =Metalkol_Model1!K819 -> 0 | L9: =Metalkol_Model1!L819 -> 0 | ... AV9: =Metalkol_Model1!AV819 -> 0
E10: =Metalkol_Model1!E820 -> Cobalt production 2022FS + actuals | F10: =Metalkol_Model1!F820 -> 0 | G10: =Metalkol_Model1!G820 -> KT | H10: =Metalkol_Model1!H820 -> 0 | I10: =Metalkol_Model1!I820 -> 0 | J10: =Metalkol_Model1!J820 -> 280.82511 | K10: =Metalkol_Model1!K820 -> 0 | L10: =Metalkol_Model1!L820 -> 0 | ... AV10: =Metalkol_Model1!AV820 -> 0
B12: Price
E13: =Metalkol_Model1!E$91 -> Copper realized price: SOM_Contract | F13: =Metalkol_Model1!F$91 -> 0 | G13: =Metalkol_Model1!G$91 -> $ / tonne | H13: =Metalkol_Model1!H$91 -> 0 | I13: =Metalkol_Model1!I$91 -> 0 | J13: =Metalkol_Model1!J$91 -> 0 | K13: =Metalkol_Model1!K$91 -> 0 | L13: =Metalkol_Model1!L$91 -> 6496.9805 | ... AV13: =Metalkol_Model1!AV$91 -> 12749.323
E14: =Metalkol_Model1!E$159 -> Cobalt realized Price: SOM_Contract | F14: =Metalkol_Model1!F$159 -> 0 | G14: =Metalkol_Model1!G$159 -> $ / tonne | H14: =Metalkol_Model1!H$159 -> 0 | I14: =Metalkol_Model1!I$159 -> 0 | J14: =Metalkol_Model1!J$159 -> 0 | K14: =Metalkol_Model1!K$159 -> #REF! | L14: =Metalkol_Model1!L$159 -> 19920.982 | ... AV14: =Metalkol_Model1!AV$159 -> 40734.951
B16: Revenue
E17: =Metalkol_Model1!E822 -> Copper gross revenue (at realized prices) | F17: =Metalkol_Model1!F822 -> 0 | G17: =Metalkol_Model1!G822 -> $ mn | H17: =Metalkol_Model1!H822 -> 0 | I17: =Metalkol_Model1!I822 -> 0 | J17: =Metalkol_Model1!J822 -> 11467.695 | K17: =Metalkol_Model1!K822 -> 0 | L17: =Metalkol_Model1!L822 -> 0 | ... AV17: =Metalkol_Model1!AV822 -> 0
E18: =Metalkol_Model1!E823 -> Cobalt gross revenue (at realized prices) | F18: =Metalkol_Model1!F823 -> 0 | G18: =Metalkol_Model1!G823 -> $ mn | H18: =Metalkol_Model1!H823 -> 0 | I18: =Metalkol_Model1!I823 -> 0 | J18: =Metalkol_Model1!J823 -> 7544.2273 | K18: =Metalkol_Model1!K823 -> 0 | L18: =Metalkol_Model1!L823 -> 0 | ... AV18: =Metalkol_Model1!AV823 -> 0
E19: =Metalkol_Model1!E824 -> Copper plus Cobalt revenue | F19: =Metalkol_Model1!F824 -> 0 | G19: =Metalkol_Model1!G824 -> $ mn | H19: =Metalkol_Model1!H824 -> 0 | I19: =Metalkol_Model1!I824 -> 0 | J19: =Metalkol_Model1!J824 -> 19011.922 | K19: =Metalkol_Model1!K824 -> 0 | L19: =Metalkol_Model1!L824 -> 0 | ... AV19: =Metalkol_Model1!AV824 -> 0
E21: =Metalkol_Model1!E826 -> Freight, Insurance & Sales 2019TR: Cu | F21: =Metalkol_Model1!F826 -> 0 | G21: =Metalkol_Model1!G826 -> $ mn | H21: =Metalkol_Model1!H826 -> 0 | I21: =Metalkol_Model1!I826 -> 0 | J21: =Metalkol_Model1!J826 -> 0 | K21: =Metalkol_Model1!K826 -> 0 | L21: =Metalkol_Model1!L826 -> 0 | ... AV21: =Metalkol_Model1!AV826 -> 0
E22: =Metalkol_Model1!E827 -> Freight, Insurance & Sales 2019TR: Co | F22: =Metalkol_Model1!F827 -> 0 | G22: =Metalkol_Model1!G827 -> $ mn | H22: =Metalkol_Model1!H827 -> 0 | I22: =Metalkol_Model1!I827 -> 0 | J22: =Metalkol_Model1!J827 -> 0 | K22: =Metalkol_Model1!K827 -> 0 | L22: =Metalkol_Model1!L827 -> 0 | ... AV22: =Metalkol_Model1!AV827 -> 0
E23: =Metalkol_Model1!E828 -> Realization costs Cu and Co | F23: =Metalkol_Model1!F828 -> 0 | G23: =Metalkol_Model1!G828 -> $ mn | H23: =Metalkol_Model1!H828 -> 0 | I23: =Metalkol_Model1!I828 -> 0 | J23: =Metalkol_Model1!J828 -> 0 | K23: =Metalkol_Model1!K828 -> 0 | L23: =Metalkol_Model1!L828 -> 0 | ... AV23: =Metalkol_Model1!AV828 -> 0
E25: =Metalkol_Model1!E830 -> Copper net revenue | F25: =Metalkol_Model1!F830 -> 0 | G25: =Metalkol_Model1!G830 -> $ mn | H25: =Metalkol_Model1!H830 -> 0 | I25: =Metalkol_Model1!I830 -> 0 | J25: =Metalkol_Model1!J830 -> 11467.695 | K25: =Metalkol_Model1!K830 -> 0 | L25: =Metalkol_Model1!L830 -> 0 | ... AV25: =Metalkol_Model1!AV830 -> 0
E26: =Metalkol_Model1!E831 -> Cobalt net revenue | F26: =Metalkol_Model1!F831 -> 0 | G26: =Metalkol_Model1!G831 -> $ mn | H26: =Metalkol_Model1!H831 -> 0 | I26: =Metalkol_Model1!I831 -> 0 | J26: =Metalkol_Model1!J831 -> 7544.2273 | K26: =Metalkol_Model1!K831 -> 0 | L26: =Metalkol_Model1!L831 -> 0 | ... AV26: =Metalkol_Model1!AV831 -> 0
E27: =Metalkol_Model1!E832 -> Copper & Cobalt net revenue | F27: =Metalkol_Model1!F832 -> 0 | G27: =Metalkol_Model1!G832 -> $ mn | H27: =Metalkol_Model1!H832 -> 0 | I27: =Metalkol_Model1!I832 -> 0 | J27: =Metalkol_Model1!J832 -> 19011.922 | K27: =Metalkol_Model1!K832 -> 0 | L27: =Metalkol_Model1!L832 -> 0 | ... AV27: =Metalkol_Model1!AV832 -> 0
B29: Costs
E30: =Metalkol_Model1!E835 -> Alternative Operating Cost Profile | F30: =Metalkol_Model1!F835 -> Alt Opex | G30: =Metalkol_Model1!G835 -> $ mn | H30: =Metalkol_Model1!H835 -> 0 | I30: =Metalkol_Model1!I835 -> 0 | J30: =Metalkol_Model1!J835 -> 9907.4531 | K30: =Metalkol_Model1!K835 -> 0 | L30: =Metalkol_Model1!L835 -> 0 | ... AV30: =Metalkol_Model1!AV835 -> 0
E31: =Metalkol_Model1!E836 -> Capital Costs inc. Sens. | F31: =Metalkol_Model1!F836 -> 0 | G31: =Metalkol_Model1!G836 -> $ mn | H31: =Metalkol_Model1!H836 -> 0 | I31: =Metalkol_Model1!I836 -> 0 | J31: =Metalkol_Model1!J836 -> 1501.997 | K31: =Metalkol_Model1!K836 -> 0 | L31: =Metalkol_Model1!L836 -> 0 | ... AV31: =Metalkol_Model1!AV836 -> 0
E32: =Metalkol_Model1!E837 -> Project costs | F32: =Metalkol_Model1!F837 -> 0 | G32: =Metalkol_Model1!G837 -> $ mn | H32: =Metalkol_Model1!H837 -> 0 | I32: =Metalkol_Model1!I837 -> 0 | J32: =Metalkol_Model1!J837 -> 11409.45 | K32: =Metalkol_Model1!K837 -> 0 | L32: =Metalkol_Model1!L837 -> 0 | ... AV32: =Metalkol_Model1!AV837 -> 0
B34: Project cashflows
E35: =Metalkol_Model1!E839 -> Project cashflows before fiscal regime | F35: =Metalkol_Model1!F839 -> 0 | G35: =Metalkol_Model1!G839 -> $ mn | H35: =Metalkol_Model1!H839 -> 0 | I35: =Metalkol_Model1!I839 -> 0 | J35: =Metalkol_Model1!J839 -> 7602.472 | K35: =Metalkol_Model1!K839 -> 0 | L35: =Metalkol_Model1!L839 -> 0 | ... AV35: =Metalkol_Model1!AV839 -> 0
E36: =Metalkol_Model1!E840 -> Project cashflows before fiscal regime | F36: =Metalkol_Model1!F840 -> 7602.472 | G36: =Metalkol_Model1!G840 -> $ mn | H36: =Metalkol_Model1!H840 -> 0 | I36: =Metalkol_Model1!I840 -> 0
E38: ="Check: " & E36 -> Check: Project cashflows before fiscal regime | F38: =SUM(L38:AV38) -> 0 | G38: check | L38: =IF(ABS(L19 - L23 - L32 - L35) > CHK_TOL, 1, 0) -> 0 | M38: =IF(ABS(M19 - M23 - M32 - M35) > CHK_TOL, 1, 0) -> 0 | N38: =IF(ABS(N19 - N23 - N32 - N35) > CHK_TOL, 1, 0) -> 0 | O38: =IF(ABS(O19 - O23 - O32 - O35) > CHK_TOL, 1, 0) -> 0 | P38: =IF(ABS(P19 - P23 - P32 - P35) > CHK_TOL, 1, 0) -> 0 | Q38: =IF(ABS(Q19 - Q23 - Q32 - Q35) > CHK_TOL, 1, 0) -> 0 | R38: =IF(ABS(R19 - R23 - R32 - R35) > CHK_TOL, 1, 0) -> 0 | S38: =IF(ABS(S19 - S23 - S32 - S35) > CHK_TOL, 1, 0) -> 0 | ... AV38: =IF(ABS(AV19 - AV23 - AV32 - AV35) > CHK_TOL, 1, 0) -> 0
B40: Government revenues
E41: =Metalkol_Model1!E878 -> Cu + Co government royalty | F41: =Metalkol_Model1!F878 -> 0 | G41: =Metalkol_Model1!G878 -> $ mn | H41: =Metalkol_Model1!H878 -> 0 | I41: =Metalkol_Model1!I878 -> 0 | J41: =Metalkol_Model1!J878 -> 1154.1185 | K41: =Metalkol_Model1!K878 -> 0 | L41: =Metalkol_Model1!L878 -> 0 | ... AV41: =Metalkol_Model1!AV878 -> 0
E42: =Metalkol_Model1!E879 -> Turnover tax (Chiffre d'Affaires 0.3PC) | F42: =Metalkol_Model1!F879 -> 0 | G42: =Metalkol_Model1!G879 -> $ mn | H42: =Metalkol_Model1!H879 -> 0 | I42: =Metalkol_Model1!I879 -> 0 | J42: =Metalkol_Model1!J879 -> 57.035766 | K42: =Metalkol_Model1!K879 -> 0 | L42: =Metalkol_Model1!L879 -> 0 | ... AV42: =Metalkol_Model1!AV879 -> 0
E43: =Metalkol_Model1!E880 -> CIT payable | F43: =Metalkol_Model1!F880 -> 0 | G43: =Metalkol_Model1!G880 -> $ mn | H43: =Metalkol_Model1!H880 -> 0 | I43: =Metalkol_Model1!I880 -> 0 | J43: =Metalkol_Model1!J880 -> 1375.6953 | K43: =Metalkol_Model1!K880 -> 0 | L43: =Metalkol_Model1!L880 -> 0 | ... AV43: =Metalkol_Model1!AV880 -> 0
E44: =Metalkol_Model1!E881 -> Special Tax On Excess Profits | F44: =Metalkol_Model1!F881 -> 0 | G44: =Metalkol_Model1!G881 -> $ mn | H44: =Metalkol_Model1!H881 -> 0 | I44: =Metalkol_Model1!I881 -> 0 | J44: =Metalkol_Model1!J881 -> 0 | K44: =Metalkol_Model1!K881 -> 0 | L44: =Metalkol_Model1!L881 -> 0 | ... AV44: =Metalkol_Model1!AV881 -> 0
E45: =Metalkol_Model1!E882 -> Payroll taxes (included in costs) | F45: =Metalkol_Model1!F882 -> 0 | G45: =Metalkol_Model1!G882 -> $ mn | H45: =Metalkol_Model1!H882 -> 0 | I45: =Metalkol_Model1!I882 -> 0 | J45: =Metalkol_Model1!J882 -> 198.14906 | K45: =Metalkol_Model1!K882 -> 0 | L45: =Metalkol_Model1!L882 -> 0 | ... AV45: =Metalkol_Model1!AV882 -> 0
E46: =Metalkol_Model1!E883 -> Import duties | F46: =Metalkol_Model1!F883 -> 0 | G46: =Metalkol_Model1!G883 -> $ mn | H46: =Metalkol_Model1!H883 -> 0 | I46: =Metalkol_Model1!I883 -> 0 | J46: =Metalkol_Model1!J883 -> 15.316407 | K46: =Metalkol_Model1!K883 -> 0 | L46: =Metalkol_Model1!L883 -> 0 | ... AV46: =Metalkol_Model1!AV883 -> 0
E47: =Metalkol_Model1!E884 -> Interest Withholding Tax | F47: =Metalkol_Model1!F884 -> 0 | G47: =Metalkol_Model1!G884 -> $ mn | H47: =Metalkol_Model1!H884 -> 0 | I47: =Metalkol_Model1!I884 -> 0 | J47: =Metalkol_Model1!J884 -> 0 | K47: =Metalkol_Model1!K884 -> 0 | L47: =Metalkol_Model1!L884 -> 0 | ... AV47: =Metalkol_Model1!AV884 -> 0
E48: =Metalkol_Model1!E885 -> Dividend withholding tax | F48: =Metalkol_Model1!F885 -> 0 | G48: =Metalkol_Model1!G885 -> $ mn | H48: =Metalkol_Model1!H885 -> 0 | I48: =Metalkol_Model1!I885 -> 0 | J48: =Metalkol_Model1!J885 -> 284.7336 | K48: =Metalkol_Model1!K885 -> 0 | L48: =Metalkol_Model1!L885 -> 0 | ... AV48: =Metalkol_Model1!AV885 -> 0
E49: =Metalkol_Model1!E886 -> WHT on non-resident services | F49: =Metalkol_Model1!F886 -> 0 | G49: =Metalkol_Model1!G886 -> $ mn | H49: =Metalkol_Model1!H886 -> 0 | I49: =Metalkol_Model1!I886 -> 0 | J49: =Metalkol_Model1!J886 -> 116.12936 | K49: =Metalkol_Model1!K886 -> 0 | L49: =Metalkol_Model1!L886 -> 0 | ... AV49: =Metalkol_Model1!AV886 -> 0
E50: =Metalkol_Model1!E888 -> Government revenues excl. Gecamines participation | F50: =Metalkol_Model1!F888 -> 0 | G50: =Metalkol_Model1!G888 -> $ mn | H50: =Metalkol_Model1!H888 -> 0 | I50: =Metalkol_Model1!I888 -> 0 | J50: =Metalkol_Model1!J888 -> 3201.178 | K50: =Metalkol_Model1!K888 -> 0 | L50: =Metalkol_Model1!L888 -> 0 | ... AV50: =Metalkol_Model1!AV888 -> 0
...

Sheet Charts
A1: =RIGHT(CELL("filename", $A$3), LEN(CELL("filename", $A$3)) - SEARCH("]", CELL("filename", $A$3))) -> Charts
F2: 0 | G2: Error chks | L2: ='T&E'!L$9 -> 2014 | M2: ='T&E'!M$9 -> 2015 | N2: ='T&E'!N$9 -> 2016 | O2: ='T&E'!O$9 -> 2017 | P2: ='T&E'!P$9 -> 2018 | Q2: ='T&E'!Q$9 -> 2019 | R2: ='T&E'!R$9 -> 2020 | S2: ='T&E'!S$9 -> 2021 | ... AV2: ='T&E'!AV$9 -> 2050
F3: =Track!F$3 -> 0 | G3: Track chgs | L3: Actual | M3: Actual | N3: Actual | O3: Actual | P3: Actual | Q3: Actual | R3: Actual | S3: Actual | T3: Actual | U3: Actual | V3: Actual | W3: Actual | X3: Actual | Y3: Actual | Z3: Actual | AA3: Actual | AB3: Actual | AC3: Actual | AD3: Actual | AE3: Forecast | AF3: Forecast | AG3: Forecast | AH3: Forecast | AI3: Forecast | AJ3: Forecast | AK3: Forecast | AL3: Forecast | AM3: Forecast | AN3: Forecast | AO3: Forecast | AP3: Forecast | AQ3: Forecast | AR3: Forecast | AS3: Forecast | AT3: Forecast | AU3: Forecast | AV3: Forecast
F4: Constant | G4: Units | H4: Sparkline | I4: Source / Comments | L4: ='T&E'!L$11 -> 1 | M4: ='T&E'!M$11 -> 2 | N4: ='T&E'!N$11 -> 3 | O4: ='T&E'!O$11 -> 4 | P4: ='T&E'!P$11 -> 5 | Q4: ='T&E'!Q$11 -> 6 | R4: ='T&E'!R$11 -> 7 | S4: ='T&E'!S$11 -> 8 | ... AV4: ='T&E'!AV$11 -> 37
A6: PRODUCTION
E8: COPPER AND COBALT PRODUCTION | F8: Chart title
E9: KT Cu and Co | F9: X-Axis
F10: Y-Axis
E12: ='T&E'!E$9 -> Model calendar year | F12: ='T&E'!F$9 -> 0 | G12: ='T&E'!G$9 -> year | H12: ='T&E'!H$9 -> 0 | I12: ='T&E'!I$9 -> 0 | J12: ='T&E'!J$9 -> 0 | K12: ='T&E'!K$9 -> 0 | L12: ='T&E'!L$9 -> 2014 | ... AV12: ='T&E'!AV$9 -> 2050
E13: =Metalkol_Model1!E$16 -> Copper production 2022Fs + actuals | F13: =Metalkol_Model1!F$16 -> 0 | G13: =Metalkol_Model1!G$16 -> KT Cu | H13: =Metalkol_Model1!H$16 -> 0 | I13: =Metalkol_Model1!I$16 -> 0 | J13: =Metalkol_Model1!J$16 -> 1421.0743 | K13: =Metalkol_Model1!K$16 -> 0 | L13: =Metalkol_Model1!L$16 -> 0 | ... AV13: =Metalkol_Model1!AV$16 -> 0
E14: =Metalkol_Model1!E$26 -> Cobalt production 2022FS + actuals | F14: =Metalkol_Model1!F$26 -> 0 | G14: =Metalkol_Model1!G$26 -> KT | H14: =Metalkol_Model1!H$26 -> 0 | I14: =Metalkol_Model1!I$26 -> 0 | J14: =Metalkol_Model1!J$26 -> 280.82511 | K14: =Metalkol_Model1!K$26 -> 0 | L14: =Metalkol_Model1!L$26 -> 0 | ... AV14: =Metalkol_Model1!AV$26 -> 0
A46: COPPER AND COBALT PRICES
E48: =A46 -> COPPER AND COBALT PRICES | F48: Chart title
F49: X-Axis
E50: USD / tonne Copper | F50: Y-Axis
E51: USD / tonne Cobalt | F51: second Y-Axis
E53: ='T&E'!E$9 -> Model calendar year | F53: ='T&E'!F$9 -> 0 | G53: ='T&E'!G$9 -> year | H53: ='T&E'!H$9 -> 0 | I53: ='T&E'!I$9 -> 0 | J53: ='T&E'!J$9 -> 0 | K53: ='T&E'!K$9 -> 0 | L53: ='T&E'!L$9 -> 2014 | ... AV53: ='T&E'!AV$9 -> 2050
E54: =Metalkol_Model1!E$91 -> Copper realized price: SOM_Contract | F54: =Metalkol_Model1!F$91 -> 0 | G54: =Metalkol_Model1!G$91 -> $ / tonne | H54: =Metalkol_Model1!H$91 -> 0 | I54: =Metalkol_Model1!I$91 -> 0 | J54: =Metalkol_Model1!J$91 -> 0 | K54: =Metalkol_Model1!K$91 -> 0 | L54: =Metalkol_Model1!L$91 -> 6496.9805 | ... AV54: =Metalkol_Model1!AV$91 -> 12749.323
E55: =Metalkol_Model1!E$159 & " (RHS)" -> Cobalt realized Price: SOM_Contract (RHS) | F55: =Metalkol_Model1!F$159 -> 0 | G55: =Metalkol_Model1!G$159 -> $ / tonne | H55: =Metalkol_Model1!H$159 -> 0 | I55: =Metalkol_Model1!I$159 -> 0 | J55: =Metalkol_Model1!J$159 -> 0 | K55: =Metalkol_Model1!K$159 -> #REF! | L55: =Metalkol_Model1!L$159 -> 19920.982 | M55: =Metalkol_Model1!M$159 -> 18302.37 | ... AV55: =Metalkol_Model1!AV$159 -> 40734.951
A85: PROJECT CASHFLOWS
E87: =A85 -> PROJECT CASHFLOWS | F87: Chart title
E88: =G92 -> $ mn | F88: X-Axis
F89: Y-Axis
E91: ='T&E'!E$9 -> Model calendar year | F91: ='T&E'!F$9 -> 0 | G91: ='T&E'!G$9 -> year | H91: ='T&E'!H$9 -> 0 | I91: ='T&E'!I$9 -> 0 | J91: ='T&E'!J$9 -> 0 | K91: ='T&E'!K$9 -> 0 | L91: ='T&E'!L$9 -> 2014 | ... AV91: ='T&E'!AV$9 -> 2050
E92: =Metalkol_Model1!E$174 -> Copper gross revenue (at realized prices) | F92: =Metalkol_Model1!F$174 -> 0 | G92: =Metalkol_Model1!G$174 -> $ mn | H92: =Metalkol_Model1!H$174 -> 0 | I92: =Metalkol_Model1!I$174 -> 0 | J92: =Metalkol_Model1!J$174 -> 11467.695 | K92: =Metalkol_Model1!K$174 -> 0 | L92: =Metalkol_Model1!L$174 -> 0 | ... AV92: =Metalkol_Model1!AV$174 -> 0
E93: =Metalkol_Model1!E$184 -> Cobalt gross revenue (at realized prices) | F93: =Metalkol_Model1!F$184 -> 0 | G93: =Metalkol_Model1!G$184 -> $ mn | H93: =Metalkol_Model1!H$184 -> 0 | I93: =Metalkol_Model1!I$184 -> 0 | J93: =Metalkol_Model1!J$184 -> 7544.2273 | K93: =Metalkol_Model1!K$184 -> 0 | L93: =Metalkol_Model1!L$184 -> 0 | ... AV93: =Metalkol_Model1!AV$184 -> 0
E95: =Metalkol_Model1!E$211 -> Realization costs Cu and Co | F95: =Metalkol_Model1!F$211 -> 0 | G95: =Metalkol_Model1!G$211 -> $ mn | H95: =Metalkol_Model1!H$211 -> 0 | I95: =Metalkol_Model1!I$211 -> 0 | J95: =Metalkol_Model1!J$211 -> 0 | K95: =Metalkol_Model1!K$211 -> 0 | L95: =Metalkol_Model1!L$211 -> 0 | ... AV95: =Metalkol_Model1!AV$211 -> 0
E96: =Metalkol_Model1!E$365 -> Operating costs, including Sens. | F96: =Metalkol_Model1!F$365 -> 0 | G96: =Metalkol_Model1!G$365 -> $ mn | H96: =Metalkol_Model1!H$365 -> 0 | I96: =Metalkol_Model1!I$365 -> 0 | J96: =Metalkol_Model1!J$365 -> 14098.627 | K96: =Metalkol_Model1!K$365 -> 0 | L96: =Metalkol_Model1!L$365 -> 0 | ... AV96: =Metalkol_Model1!AV$365 -> 0
E97: =Metalkol_Model1!E$410 -> Capital Costs inc. Sens. | F97: =Metalkol_Model1!F$410 -> 0 | G97: =Metalkol_Model1!G$410 -> $ mn | H97: =Metalkol_Model1!H$410 -> 0 | I97: =Metalkol_Model1!I$410 -> 0 | J97: =Metalkol_Model1!J$410 -> 1501.997 | K97: =Metalkol_Model1!K$410 -> 0 | L97: =Metalkol_Model1!L$410 -> 0 | ... AV97: =Metalkol_Model1!AV$410 -> 0
E99: =Metalkol_Model1!E$800 -> Project cashflows before tax | F99: =Metalkol_Model1!F$800 -> 0 | G99: =Metalkol_Model1!G$800 -> $ mn | H99: =Metalkol_Model1!H$800 -> 0 | I99: =Metalkol_Model1!I$800 -> 0 | J99: =Metalkol_Model1!J$800 -> 7602.472 | K99: =Metalkol_Model1!K$800 -> 0 | L99: =Metalkol_Model1!L$800 -> 0 | ... AV99: =Metalkol_Model1!AV$800 -> 0
E101: =E95 -> Realization costs Cu and Co | G101: =G95 -> $ mn | J101: =SUM(L101:AV101) -> 0 | L101: =L95 * -1 -> 0 | M101: =M95 * -1 -> 0 | N101: =N95 * -1 -> 0 | O101: =O95 * -1 -> 0 | P101: =P95 * -1 -> 0 | Q101: =Q95 * -1 -> 0 | R101: =R95 * -1 -> 0 | S101: =S95 * -1 -> 0 | ... AV101: =AV95 * -1 -> 0
E102: =E96 -> Operating costs, including Sens. | G102: =G96 -> $ mn | J102: =SUM(L102:AV102) -> -14098.627 | L102: =L96 * -1 -> 0 | M102: =M96 * -1 -> 0 | N102: =N96 * -1 -> 0 | O102: =O96 * -1 -> 0 | P102: =P96 * -1 -> -46.775406 | Q102: =Q96 * -1 -> -565.92033 | R102: =R96 * -1 -> -432.34976 | S102: =S96 * -1 -> -563.86968 | ... AV102: =AV96 * -1 -> 0
E103: =E97 -> Capital Costs inc. Sens. | G103: =G97 -> $ mn | J103: =SUM(L103:AV103) -> -1501.997 | L103: =L97 * -1 -> 0 | M103: =M97 * -1 -> 0 | N103: =N97 * -1 -> 0 | O103: =O97 * -1 -> 0 | P103: =P97 * -1 -> -1010.2 | Q103: =Q97 * -1 -> -175.6 | R103: =R97 * -1 -> -59.63794 | S103: =S97 * -1 -> -19.714241 | ... AV103: =AV97 * -1 -> 0
A131: GOVERNMENT REVENUES
E133: =A131 -> GOVERNMENT REVENUES | F133: Chart title
E134: =G138 -> $ mn | F134: X-Axis
F135: Y-Axis
E137: ='T&E'!E$9 -> Model calendar year | F137: ='T&E'!F$9 -> 0 | G137: ='T&E'!G$9 -> year | H137: ='T&E'!H$9 -> 0 | I137: ='T&E'!I$9 -> 0 | J137: ='T&E'!J$9 -> 0 | K137: ='T&E'!K$9 -> 0 | L137: ='T&E'!L$9 -> 2014 | ... AV137: ='T&E'!AV$9 -> 2050
E138: =Metalkol_Model1!E$174 -> Copper gross revenue (at realized prices) | F138: =Metalkol_Model1!F$174 -> 0 | G138: =Metalkol_Model1!G$174 -> $ mn | H138: =Metalkol_Model1!H$174 -> 0 | I138: =Metalkol_Model1!I$174 -> 0 | J138: =Metalkol_Model1!J$174 -> 11467.695 | K138: =Metalkol_Model1!K$174 -> 0 | L138: =Metalkol_Model1!L$174 -> 0 | ... AV138: =Metalkol_Model1!AV$174 -> 0
E139: =Metalkol_Model1!E$184 -> Cobalt gross revenue (at realized prices) | F139: =Metalkol_Model1!F$184 -> 0 | G139: =Metalkol_Model1!G$184 -> $ mn | H139: =Metalkol_Model1!H$184 -> 0 | I139: =Metalkol_Model1!I$184 -> 0 | J139: =Metalkol_Model1!J$184 -> 7544.2273 | K139: =Metalkol_Model1!K$184 -> 0 | L139: =Metalkol_Model1!L$184 -> 0 | ... AV139: =Metalkol_Model1!AV$184 -> 0
...

Sheet OnePager
B2: METALKOL MARKET VALUE | S2: KEYS
C3: Issue | E3: Materiality | K3: Documentation | S3: Materiality Level
E4: Level | F4: Issue Definition | G4: Value Type | H4: Value Unit | I4: Value Scope | J4: VaR | K4: Source | L4: Observation | N4: Floor | O4: Mid | P4: Ceiling | S4: L | T4: Low
B5: V1 | C5: Realised Price Risk: Co | E5: H | F5: Variable Payable Co Rates | G5: Turnover | H5: USD mn | I5: Rem_LOM | J5: =MAX(N5:P5)-MIN(N5:P5) -> 1952.4047 | K5: I | L5: Min Mining File 2018-24 | N5: =Scenarios!H67 -> 3667.8139 | O5: =ABS(Scenarios!I67) -> 4318.6154 | P5: =Scenarios!J67 -> 5620.2185 | S5: M | T5: Medium
B6: V2 | C6: Realised Price Risk: Cu | E6: M | F6: Transport charges included | G6: Turnover | H6: USD mn | I6: Rem_LOM | J6: =MAX(N6:P6)-MIN(N6:P6) -> 265.30015 | K6: I | L6: Somidez 2020 sales contract | N6: =Scenarios!I73 -> 7048.7685 | P6: =Scenarios!J73 -> 7314.0687 | S6: H | T6: High
B7: V3 | C7: Marketing Fee Risk | E7: M | F7: 2% fee on 3rd party sales | G7: Turnover | H7: USD mn | I7: Rem_LOM | J7: =MAX(N7:P7)-MIN(N7:P7) -> 210.90684 | K7: I | L7: Somidez 2020 sales contract | N7: =Scenarios!H79 -> 11240.84 | O7: =Scenarios!I79 -> 11367.384 | P7: =Scenarios!J79 -> 11451.747 | S7: U | T7: Unquantified
B8: V4 | C8: Cu Vol Underreporting Risk | E8: H | F8: +/- 5% reported Cu volume | G8: Turnover | H8: USD mn | I8: Rem_LOM | J8: =MAX(N8:P8)-MIN(N8:P8) -> 704.87685 | K8: S | L8: 2021 Min Mining truck stats | N8: =Scenarios!H85 -> 6696.3301 | O8: =Scenarios!I85 -> 7048.7685 | P8: =Scenarios!J85 -> 7401.207 | S8: Documentation Source
B9: V5 | C9: Co Vol Underreporting Risk | E9: H | F9: +/- 5% reported Co volume | G9: Turnover | H9: USD mn | I9: Rem_LOM | J9: =MAX(N9:P9)-MIN(N9:P9) -> 431.86154 | K9: S | L9: 2021 Min Mining truck stats | N9: =Scenarios!H91 -> 4102.6846 | O9: =Scenarios!I91 -> 4318.6154 | P9: =Scenarios!J91 -> 4534.5462
B10: V6 | C10: Co Grade Underreporting Risk | E10: H | F10: CoHyd Grade range 30 - 35% | G10: Turnover | H10: USD mn | I10: Rem_LOM | J10: =MAX(N10:P10)-MIN(N10:P10) -> 690.97847 | K10: S | L10: 2k data points Min Min 2018-24 | N10: =Scenarios!H97 -> 3886.7539 | O10: =Scenarios!I97 -> 4318.6154 | P10: =Scenarios!J97 -> 4577.7323 | S10: D | T10: Direct
S11: I | T11: Indirect
B12: METALKOL PROJECT COSTS | S12: S | T12: Scenario
C13: Issue | E13: Materiality | K13: Documentation
E14: Level | F14: Issue Definition | G14: Value Type | H14: Value Unit | I14: Value Scope | J14: VaR | K14: Source | L14: Observation | N14: Floor | O14: Mid | P14: Ceiling
B15: C1 | C15: Deductibility of debt interest | E15: H | F15: Compare vs LIBOR + 4% | G15: Fiscal | H15: USD mn | I15: LOM | J15: =O15 -> 360.1884 | K15: D | L15: Against 2022 FS interest charges | O15: =ABS(Scenarios!H110) -> 360.1884
B16: C2 | C16: Opex cost reporting risk | E16: M | F16: FS stated opex vs stable opex | G16: Fiscal | H16: USD mn | I16: Rem_LOM | J16: =MAX(N16:P16)-MIN(N16:P16) -> 766.6729 | K16: D | L16: Covers period 2023 forward (FS) | N16: =Scenarios!H$115 -> 1115.1963 | O16: =Scenarios!I$115 -> 1881.8692 | P16: =Scenarios!J$115 -> 1881.8692
B17: Cx | C17: [Cost benchmarking] | E17: U | F17: Insufficient data to evaluate
B19: METALKOL TAX RULES
C20: Issue | E20: Materiality | K20: Documentation
E21: Level | F21: Issue Definition | G21: Value Type | H21: Value Unit | I21: Value Scope | J21: VaR | K21: Source | L21: Observation | N21: Floor | O21: Mid | P21: Ceiling
B22: T1 | C22: Royalty model to actuals | E22: L | F22: Shortfall vs model at 70% payables | G22: Fiscal | H22: USD mn | I22: 2018-2022 | J22: =O22 -> 62.368816 | K22: D | L22: Model base scenario vs EITI | O22: =ABS(EITI_Rev!F41) -> 62.368816
B23: T2 | C23: Subnational model to actuals | E23: L | F23: Turnover tax and sub-national royalties | G23: Fiscal | H23: USD mn | I23: 2018-2022 | J23: =O23 -> 91.906425 | K23: D | L23: Assumes Treasury actuals right | O23: =ABS(Scenarios!H$120) -> 91.906425
B24: T3 | C24: Corporate Income Tax | E24: U | F24: Model base scenario vs EITI actuals | G24: Fiscal | H24: USD mn | I24: 2018-2022 | J24: =ABS(EITI_Rev!F$53) -> 170.98794 | K24: S | L24: No annual financials available
B25: T4 | C25: Excess Profits Tax | E25: M | F25: Insufficient data to evaluate | K25: I
B26: T5 | C26: Potential Tax Treaty Impacts | E26: M | F26: No SWT and reduced DWT if South Africa | G26: Fiscal | H26: USD mn | I26: Rem_LOM | J26: =O26 -> 112.25856 | K26: I | L26: Corporate network unknown | O26: =Scenarios!I$126 -> 112.25856
B27: T6 | C27: License Renewal Equity | E27: M | F27: Extra 5% from license renewal 2018 | G27: Fiscal | H27: USD mn | I27: Rem_LOM | J27: =O27 -> 189.71468 | K27: D | L27: Additional transfer unconfirmed | O27: =ABS(Scenarios!H$133) -> 189.71468
B28: T7 | C28: State asset transfers | E28: M | F28: 2017 smelter royalty sale | G28: Fiscal | H28: USD mn | I28: 2017 Deal | J28: =O28 -> 155.44902 | K28: D | L28: Diff. sales price and NPV10 royalties | O28: =ABS(Metalkol_Model1!F$270) -> 155.44902

Sheet Scenarios
C2: =Track!$F$85 -> 0 | D2: Error chks
C3: =Track!$F$3 -> 0 | D3: Track chgs
C5: into model | D5: units | H5: SCENARIO PARAMETERS
H6: =G6 + 1 -> 1 | I6: =H6 + 1 -> 2 | J6: =I6 + 1 -> 3 | K6: =J6 + 1 -> 4 | L6: =K6 + 1 -> 5 | M6: =L6 + 1 -> 6 | N6: =M6 + 1 -> 7 | O6: =N6 + 1 -> 8 | ... S6: =R6 + 1 -> 12
B7: =Dashboard!C$7 -> Scenario | C7: =Dashboard!D$7 -> Base | D7: =Dashboard!E$7 -> selected | H7: Base | I7: Actual Realized | J7: JW
C8: =MATCH(C7, G7:T7, 0) -> 2
B9: TOP ROW OF PARAMETERS | E9: Sens variable
C10: INTO MODEL
B11: Copper forecast price | C11: {=IF( E11 <> "sens", E11, INDEX(G11:T11, ,$C$8))} -> IMF_WEO | D11: option selected | E11: Sens | H11: IMF_WEO | I11: IMF_WEO | J11: ConstReal
B12: Cobalt forecast price | C12: {=IF( E12 <> "sens", E12, INDEX(G12:T12, ,$C$8))} -> IMF_WEO | D12: option selected | E12: Sens | H12: IMF_WEO | I12: IMF_WEO | J12: IMF_WEO
B13: Cu realized price method | C13: {=IF( E13 <> "sens", E13, INDEX(G13:T13, ,$C$8))} -> SOM_Contract | D13: selected | E13: Sens | H13: SOM_Contract | I13: %LME(actual) | J13: SOM_Contract
B14: Copper: Realised Price vs LME for "LMEAssumed" | C14: {=IF( E14 <> "sens", E14, INDEX(G14:T14, ,$C$8))} -> 0.95 | D14: % | E14: Sens | H14: 0.95 | I14: 0.95 | J14: 0.95
B15: Co realized price method | C15: {=IF( E15 <> "sens", E15, INDEX(G15:T15, ,$C$8))} -> SOM_Contract | D15: selected | E15: Sens | H15: SOM_Contract | I15: %LME(actual) | J15: %LME(assumed)
B16: Apply Cu transport / quality discount (1 = yes) | C16: {=IF( E16 <> "sens", E16, INDEX(G16:T16, ,$C$8))} -> 1 | D16: flag | E16: Sens | H16: 1 | I16: 1 | J16: 1
B17: Third Party Marketing Charge: Cu & Co | C17: {=IF( E17 <> "sens", E17, INDEX(G17:T17, ,$C$8))} -> 0.008 | D17: % | E17: Sens | H17: 0.008 | I17: 0.008 | J17: 0.008
B18: Cobalt: Realised Price vs LME for "LMEAssumed" | C18: {=IF( E18 <> "sens", E18, INDEX(G18:T18, ,$C$8))} -> 0.7 | D18: % | E18: Sens | H18: 0.7 | I18: 0.9 | J18: 0.9
B19: Apply freight, insurance & sales costs 2019TR | C19: {=IF( E19 <> "sens", E19, INDEX(G19:T19, ,$C$8))} -> no | D19: selected | E19: Sens | H19: no | I19: no | J19: no
B20: Cobalt Payable Rate applied in model | C20: {=IF( E20 <> "sens", E20, INDEX(G20:T20, ,$C$8))} -> 0.7 | D20: % | E20: Sens | H20: 0.7 | I20: 0.7 | J20: 0.7
B21: Som contract: placeholder assumption of third party sales: Cu | C21: {=IF( E21 <> "sens", E21, INDEX(G21:T21, ,$C$8))} -> 0.9 | D21: % | E21: Sens | H21: 0.9 | I21: 0.5 | J21: 0.5
B22: Som contract: placeholder assumption of third party sales: Co | C22: {=IF( E22 <> "sens", E22, INDEX(G22:T22, ,$C$8))} -> 0.9 | D22: % | E22: Sens | H22: 0.9 | I22: 0.5 | J22: 0.9
B23: Copper production sensitivity (forecast period) | C23: {=IF( E23 <> "sens", E23, INDEX(G23:T23, ,$C$8))} -> 1 | D23: % | E23: Sens | H23: 1 | I23: 1 | J23: 1
B24: Cobalt production sensitivity (forecast period) | C24: {=IF( E24 <> "sens", E24, INDEX(G24:T24, ,$C$8))} -> 1 | D24: % | E24: Sens | H24: 1 | I24: 1 | J24: 1
B25: Operating cost Sensitivity (forecast period) | C25: {=IF( E25 <> "sens", E25, INDEX(G25:T25, ,$C$8))} -> 1 | D25: % | E25: Sens | H25: 1 | I25: 1 | J25: 1
B26: Capital cost sensitivity (forecast period) | C26: {=IF( E26 <> "sens", E26, INDEX(G26:T26, ,$C$8))} -> 1 | D26: % | E26: Sens | H26: 1 | I26: 1 | J26: 1
B27: Interest deductible for CIT | C27: {=IF( E27 <> "sens", E27, INDEX(G27:T27, ,$C$8))} -> 1 | D27: % | E27: Sens | H27: 1 | I27: 1 | J27: 1
B28: Operating Cost Profile | C28: {=IF( E28 <> "sens", E28, INDEX(G28:T28, ,$C$8))} -> Alt Opex | D28: option selected | E28: Sens | H28: Alt Opex | I28: FS Opex | J28: FS Opex
B29: Opening balance of CIT losses 2011 | C29: {=IF( E29 <> "sens", E29, INDEX(G29:T29, ,$C$8))} -> 0 | D29: $ mn | E29: Sens | H29: 0 | I29: 0 | J29: 0
B30: Straight line depreciation years (AVERAGE) | C30: {=IF( E30 <> "sens", E30, INDEX(G30:T30, ,$C$8))} -> 7 | D30: years | E30: Sens | H30: 7 | I30: 7 | J30: 7
B31: Management fees added to operating costs | C31: {=IF( E31 <> "sens", E31, INDEX(G31:T31, ,$C$8))} -> 0 | D31: % | E31: Sens | H31: 0 | I31: 0.02 | J31: 0.02
B32: Excess Profits Tax applied (1 = yes) | C32: {=IF( E32 <> "sens", E32, INDEX(G32:T32, ,$C$8))} -> 1 | D32: flag | E32: Sens | H32: 1 | I32: 1 | J32: 1
B33: EPT: Apply inflation to FS prices and Operating Surplus | C33: {=IF( E33 <> "sens", E33, INDEX(G33:T33, ,$C$8))} -> no | D33: selected | E33: Sens | H33: no | I33: no | J33: no
B34: Base case or alternative debt interest rates | C34: {=IF( E34 <> "sens", E34, INDEX(G34:T34, ,$C$8))} -> Computed | D34: selected | E34: Sens | H34: Computed | I34: Computed | J34: Computed
B35: Include Import Duties in forecast (1 = yes) | C35: {=IF( E35 <> "sens", E35, INDEX(G35:T35, ,$C$8))} -> 1 | D35: flag | E35: Sens | H35: 1 | I35: 1 | J35: 1
B36: Interest withholding tax | C36: {=IF( E36 <> "sens", E36, INDEX(G36:T36, ,$C$8))} -> 0 | D36: % | E36: Sens | H36: 0 | I36: 0 | J36: 0
B37: Dividend withholding tax | C37: {=IF( E37 <> "sens", E37, INDEX(G37:T37, ,$C$8))} -> 0.1 | D37: % | E37: Sens | H37: 0.1 | I37: 0.1 | J37: 0.1
B38: apply increased State Participation | C38: {=IF( E38 <> "sens", E38, INDEX(G38:T38, ,$C$8))} -> yes | D38: flag | E38: Sens | H38: yes | I38: yes | J38: yes
B39: WHT rate non-resident services | C39: {=IF( E39 <> "sens", E39, INDEX(G39:T39, ,$C$8))} -> 0.14 | D39: % | E39: Sens | H39: 0.14 | I39: 0.14 | J39: 0.14
B40: Include Payroll taxes in forecast (1 = yes) | C40: {=IF( E40 <> "sens", E40, INDEX(G40:T40, ,$C$8))} -> 1 | D40: flag | E40: Sens | H40: 1 | I40: 1 | J40: 1
B41: Apply opening balance on Gecamines loan | C41: {=IF( E41 <> "sens", E41, INDEX(G41:T41, ,$C$8))} -> 1 | D41: flag | E41: Sens | H41: 1 | I41: 1 | J41: 1
B42: Apply interest on Gecamines loan | C42: {=IF( E42 <> "sens", E42, INDEX(G42:T42, ,$C$8))} -> 1 | D42: flag | E42: Sens | H42: 1 | I42: 1 | J42: 1
...

Sheet Metalkol_Model1
A1: =RIGHT(CELL("filename", $A$3), LEN(CELL("filename", $A$3)) - SEARCH("]", CELL("filename", $A$3))) -> Metalkol_Model1
E2: Calendar year end | F2: =Track!$F$85 -> 0 | G2: Error chks | L2: ='T&E'!L$9 -> 2014 | M2: ='T&E'!M$9 -> 2015 | N2: ='T&E'!N$9 -> 2016 | O2: ='T&E'!O$9 -> 2017 | P2: ='T&E'!P$9 -> 2018 | Q2: ='T&E'!Q$9 -> 2019 | R2: ='T&E'!R$9 -> 2020 | S2: ='T&E'!S$9 -> 2021 | ... AV2: ='T&E'!AV$9 -> 2050
F3: =Track!F$3 -> 0 | G3: Track chgs | L3: Actual | M3: Actual | N3: Actual | O3: Actual | P3: Actual | Q3: Actual | R3: Actual | S3: Actual | T3: Actual | U3: Actual | V3: Actual | W3: Actual | X3: Actual | Y3: Actual | Z3: Actual | AA3: Actual | AB3: Actual | AC3: Actual | AD3: Actual | AE3: Forecast | AF3: Forecast | AG3: Forecast | AH3: Forecast | AI3: Forecast | AJ3: Forecast | AK3: Forecast | AL3: Forecast | AM3: Forecast | AN3: Forecast | AO3: Forecast | AP3: Forecast | AQ3: Forecast | AR3: Forecast | AS3: Forecast | AT3: Forecast | AU3: Forecast | AV3: Forecast
F4: Constant | G4: Units | H4: Sparkline | I4: Source / Comments | L4: ='T&E'!L$11 -> 1 | M4: ='T&E'!M$11 -> 2 | N4: ='T&E'!N$11 -> 3 | O4: ='T&E'!O$11 -> 4 | P4: ='T&E'!P$11 -> 5 | Q4: ='T&E'!Q$11 -> 6 | R4: ='T&E'!R$11 -> 7 | S4: ='T&E'!S$11 -> 8 | ... AV4: ='T&E'!AV$11 -> 37
A6: PRODUCTION AND SALES VOLUMES
B8: Copper: historic and Forecast Production Profile
C9: Actual copper sales
E10: =InputsTS!E$131 -> Copper Cathode Exports | F10: =InputsTS!F$131 -> 0 | G10: =InputsTS!G$131 -> tonnes | H10: =InputsTS!H$131 -> 0 | I10: =InputsTS!I$131 -> I | J10: =InputsTS!J$131 -> 0 | K10: =InputsTS!K$131 -> 0 | L10: =InputsTS!L$131 -> 0 | ... AV10: =InputsTS!AV$131 -> 0
E11: =InputsTS!E$49 -> Copper Production (FS22) | F11: =InputsTS!F$49 -> 0 | G11: =InputsTS!G$49 -> tonnes | H11: =InputsTS!H$49 -> 0 | I11: =InputsTS!I$49 -> 0 | J11: =InputsTS!J$49 -> 0 | K11: =InputsTS!K$49 -> 0 | L11: =InputsTS!L$49 -> 0 | ... AV11: =InputsTS!AV$49 -> 0
E12: Copper produced: 2022FS + actuals | G12: =G11 -> tonnes | H12: =Kamoto_2019TR!H$27 -> 0 | J12: =SUM(L12:AV12) -> 1421074.3 | K12: =Kamoto_2019TR!K$27 -> 0 | L12: =IF(L11 <> 0, L11, L10) -> 0 | M12: =IF(M11 <> 0, M11, M10) -> 0 | N12: =IF(N11 <> 0, N11, N10) -> 0 | O12: =IF(O11 <> 0, O11, O10) -> 0 | P12: =IF(P11 <> 0, P11, P10) -> 9225.5634 | Q12: =IF(Q11 <> 0, Q11, Q10) -> 95205.769 | R12: =IF(R11 <> 0, R11, R10) -> 80312 | S12: =IF(S11 <> 0, S11, S10) -> 94807 | ... AV12: =IF(AV11 <> 0, AV11, AV10) -> 0
C14: Copper production into model
